BEGIN:VCALENDAR
VERSION:2.0
PRODID:Spatie calendar-links
BEGIN:VEVENT
UID:ea6fb4d22e61239ba3a03ac9706f1d9f
SUMMARY:Pride for youth 2025
DTSTAMP:20250611T223000Z
DTSTART:20250611T223000Z
DTEND:20250612T010000Z
LOCATION:1515 Williamsburg Sq\, Lakeland\, Fl\, United States
END:VEVENT
END:VCALENDAR